BEGIN:VCALENDAR
VERSION:2.0
PRODID:-//eventon.com NONSGML v1.0//EN
CALSCALE:GREGORIAN
METHOD:PUBLISH
BEGIN:VEVENT
UID:69eb3eaca1336
DTSTAMP:20260424T095804Z
DTSTART:20260421T050000Z
DTEND:20260421T060000Z
LOCATION:
SUMMARY:Early Bird
DESCRIPTION:Early Bird\nhttps://padmayoga.ch/events/early-bird/
URL:https://padmayoga.ch/events/early-bird/
END:VEVENT
END:VCALENDAR