BEGIN:VCALENDAR
VERSION:2.0
PRODID:-//eventon.com NONSGML v1.0//EN
CALSCALE:GREGORIAN
METHOD:PUBLISH
BEGIN:VEVENT
UID:69e8a0ecec9e6
DTSTAMP:20260422T102028Z
DTSTART:20260422T100000Z
DTEND:20260422T110000Z
LOCATION:
SUMMARY:Lunch Flow
DESCRIPTION:In English\nhttps://padmayoga.ch/events/yang-yin-yoga/var/ri-13
 6.l-L1
URL:https://padmayoga.ch/events/yang-yin-yoga/var/ri-136.l-L1
END:VEVENT
END:VCALENDAR