BEGIN:VCALENDAR
VERSION:2.0
PRODID:-//eventon.com NONSGML v1.0//EN
CALSCALE:GREGORIAN
METHOD:PUBLISH
BEGIN:VEVENT
UID:69eb57cedd6d1
DTSTAMP:20260424T114518Z
DTSTART:20260415T100000Z
DTEND:20260415T110000Z
LOCATION:
SUMMARY:Lunch Flow
DESCRIPTION:In English\nhttps://padmayoga.ch/events/yang-yin-yoga/var/ri-13
 5.l-L1
URL:https://padmayoga.ch/events/yang-yin-yoga/var/ri-135.l-L1
END:VEVENT
END:VCALENDAR