BEGIN:VCALENDAR
VERSION:2.0
PRODID:-//eventon.com NONSGML v1.0//EN
CALSCALE:GREGORIAN
METHOD:PUBLISH
BEGIN:VEVENT
UID:69eb410621bb0
DTSTAMP:20260424T100806Z
DTSTART:20260408T100000Z
DTEND:20260408T110000Z
LOCATION:
SUMMARY:Lunch Flow
DESCRIPTION:In English\nhttps://padmayoga.ch/events/yang-yin-yoga/var/ri-13
 4.l-L1
URL:https://padmayoga.ch/events/yang-yin-yoga/var/ri-134.l-L1
END:VEVENT
END:VCALENDAR