BEGIN:VCALENDAR
VERSION:2.0
PRODID:-//eventon.com NONSGML v1.0//EN
CALSCALE:GREGORIAN
METHOD:PUBLISH
BEGIN:VEVENT
UID:69eb582a1cbf0
DTSTAMP:20260424T114650Z
DTSTART:20260401T100000Z
DTEND:20260401T110000Z
LOCATION:
SUMMARY:Lunch Flow
DESCRIPTION:In English\nhttps://padmayoga.ch/events/yang-yin-yoga/var/ri-13
 3.l-L1
URL:https://padmayoga.ch/events/yang-yin-yoga/var/ri-133.l-L1
END:VEVENT
END:VCALENDAR