BEGIN:VCALENDAR
VERSION:2.0
PRODID:-//eventon.com NONSGML v1.0//EN
CALSCALE:GREGORIAN
METHOD:PUBLISH
BEGIN:VEVENT
UID:69eb705a3a13e
DTSTAMP:20260424T133002Z
DTSTART:20260325T110000Z
DTEND:20260325T120000Z
LOCATION:
SUMMARY:Lunch Flow
DESCRIPTION:In English\nhttps://padmayoga.ch/events/yang-yin-yoga/var/ri-13
 2.l-L1
URL:https://padmayoga.ch/events/yang-yin-yoga/var/ri-132.l-L1
END:VEVENT
END:VCALENDAR