BEGIN:VCALENDAR
VERSION:2.0
PRODID:-//eventon.com NONSGML v1.0//EN
CALSCALE:GREGORIAN
METHOD:PUBLISH
BEGIN:VEVENT
UID:69eb8314d9b64
DTSTAMP:20260424T144956Z
DTSTART:20260318T110000Z
DTEND:20260318T120000Z
LOCATION:
SUMMARY:Lunch Flow
DESCRIPTION:In English\nhttps://padmayoga.ch/events/yang-yin-yoga/var/ri-13
 1.l-L1
URL:https://padmayoga.ch/events/yang-yin-yoga/var/ri-131.l-L1
END:VEVENT
END:VCALENDAR