BEGIN:VCALENDAR
VERSION:2.0
PRODID:-//eventon.com NONSGML v1.0//EN
CALSCALE:GREGORIAN
METHOD:PUBLISH
BEGIN:VEVENT
UID:69eb967758def
DTSTAMP:20260424T161239Z
DTSTART:20260311T110000Z
DTEND:20260311T120000Z
LOCATION:
SUMMARY:Lunch Flow
DESCRIPTION:In English\nhttps://padmayoga.ch/events/yang-yin-yoga/var/ri-13
 0.l-L1
URL:https://padmayoga.ch/events/yang-yin-yoga/var/ri-130.l-L1
END:VEVENT
END:VCALENDAR