BEGIN:VCALENDAR
VERSION:2.0
PRODID:-//eventon.com NONSGML v1.0//EN
CALSCALE:GREGORIAN
METHOD:PUBLISH
BEGIN:VEVENT
UID:69ebaa1a96309
DTSTAMP:20260424T173626Z
DTSTART:20260304T110000Z
DTEND:20260304T120000Z
LOCATION:
SUMMARY:Lunch Flow
DESCRIPTION:In English\nhttps://padmayoga.ch/events/yang-yin-yoga/var/ri-12
 9.l-L1
URL:https://padmayoga.ch/events/yang-yin-yoga/var/ri-129.l-L1
END:VEVENT
END:VCALENDAR