BEGIN:VCALENDAR
VERSION:2.0
PRODID:-//eventon.com NONSGML v1.0//EN
CALSCALE:GREGORIAN
METHOD:PUBLISH
BEGIN:VEVENT
UID:69ebbf05a99c3
DTSTAMP:20260424T190541Z
DTSTART:20260225T110000Z
DTEND:20260225T120000Z
LOCATION:
SUMMARY:Lunch Flow
DESCRIPTION:In English\nhttps://padmayoga.ch/events/yang-yin-yoga/var/ri-12
 8.l-L1
URL:https://padmayoga.ch/events/yang-yin-yoga/var/ri-128.l-L1
END:VEVENT
END:VCALENDAR