BEGIN:VCALENDAR
VERSION:2.0
PRODID:-//eventon.com NONSGML v1.0//EN
CALSCALE:GREGORIAN
METHOD:PUBLISH
BEGIN:VEVENT
UID:69e8ef8017ccd
DTSTAMP:20260422T155544Z
DTSTART:20230913T100000Z
DTEND:20230913T110000Z
LOCATION:
SUMMARY:Lunch Flow
DESCRIPTION:In English\nhttps://padmayoga.ch/events/yang-yin-yoga/
URL:https://padmayoga.ch/events/yang-yin-yoga/
END:VEVENT
END:VCALENDAR